Workbook

Sheet Reading
A1: Title | B1: Author | C1: ISBN or edition | D1: Status | E1: Started | F1: Finished | G1: Format | H1: Personal rating | I1: Notes | J1: Days in date span
J2: =IF(AND(ISNUMBER(E2),ISNUMBER(F2),E2>0,F2>0,F2>=E2),F2-E2+1,"")
J3: =IF(AND(ISNUMBER(E3),ISNUMBER(F3),E3>0,F3>0,F3>=E3),F3-E3+1,"")
J4: =IF(AND(ISNUMBER(E4),ISNUMBER(F4),E4>0,F4>0,F4>=E4),F4-E4+1,"")
J5: =IF(AND(ISNUMBER(E5),ISNUMBER(F5),E5>0,F5>0,F5>=E5),F5-E5+1,"")
J6: =IF(AND(ISNUMBER(E6),ISNUMBER(F6),E6>0,F6>0,F6>=E6),F6-E6+1,"")
J7: =IF(AND(ISNUMBER(E7),ISNUMBER(F7),E7>0,F7>0,F7>=E7),F7-E7+1,"")
J8: =IF(AND(ISNUMBER(E8),ISNUMBER(F8),E8>0,F8>0,F8>=E8),F8-E8+1,"")
J9: =IF(AND(ISNUMBER(E9),ISNUMBER(F9),E9>0,F9>0,F9>=E9),F9-E9+1,"")
J10: =IF(AND(ISNUMBER(E10),ISNUMBER(F10),E10>0,F10>0,F10>=E10),F10-E10+1,"")
J11: =IF(AND(ISNUMBER(E11),ISNUMBER(F11),E11>0,F11>0,F11>=E11),F11-E11+1,"")
J12: =IF(AND(ISNUMBER(E12),ISNUMBER(F12),E12>0,F12>0,F12>=E12),F12-E12+1,"")
J13: =IF(AND(ISNUMBER(E13),ISNUMBER(F13),E13>0,F13>0,F13>=E13),F13-E13+1,"")
... J201: =IF(AND(ISNUMBER(E201),ISNUMBER(F201),E201>0,F201>0,F201>=E201),F201-E201+1,"")

Sheet Summary
A1: Summary year | B1: 2026
A2: Finished | B2: =COUNTIFS(Reading!A2:A201,"<>",Reading!D2:D201,"Finished")
A3: DNF | B3: =COUNTIFS(Reading!A2:A201,"<>",Reading!D2:D201,"DNF")
A4: Average personal rating | B4: =IF(COUNT(Reading!H2:H201)=0,"",AVERAGE(Reading!H2:H201))
A5: Month | B5: Dated finished books
A6: 1 | B6: =COUNTIFS(Reading!A2:A201,"<>",Reading!D2:D201,"Finished",Reading!F2:F201,">="&DATE($B$1,A6,1),Reading!F2:F201,"<"&DATE($B$1,A6+1,1))
A7: 2 | B7: =COUNTIFS(Reading!A2:A201,"<>",Reading!D2:D201,"Finished",Reading!F2:F201,">="&DATE($B$1,A7,1),Reading!F2:F201,"<"&DATE($B$1,A7+1,1))
A8: 3 | B8: =COUNTIFS(Reading!A2:A201,"<>",Reading!D2:D201,"Finished",Reading!F2:F201,">="&DATE($B$1,A8,1),Reading!F2:F201,"<"&DATE($B$1,A8+1,1))
A9: 4 | B9: =COUNTIFS(Reading!A2:A201,"<>",Reading!D2:D201,"Finished",Reading!F2:F201,">="&DATE($B$1,A9,1),Reading!F2:F201,"<"&DATE($B$1,A9+1,1))
A10: 5 | B10: =COUNTIFS(Reading!A2:A201,"<>",Reading!D2:D201,"Finished",Reading!F2:F201,">="&DATE($B$1,A10,1),Reading!F2:F201,"<"&DATE($B$1,A10+1,1))
A11: 6 | B11: =COUNTIFS(Reading!A2:A201,"<>",Reading!D2:D201,"Finished",Reading!F2:F201,">="&DATE($B$1,A11,1),Reading!F2:F201,"<"&DATE($B$1,A11+1,1))
A12: 7 | B12: =COUNTIFS(Reading!A2:A201,"<>",Reading!D2:D201,"Finished",Reading!F2:F201,">="&DATE($B$1,A12,1),Reading!F2:F201,"<"&DATE($B$1,A12+1,1))
A13: 8 | B13: =COUNTIFS(Reading!A2:A201,"<>",Reading!D2:D201,"Finished",Reading!F2:F201,">="&DATE($B$1,A13,1),Reading!F2:F201,"<"&DATE($B$1,A13+1,1))
A14: 9 | B14: =COUNTIFS(Reading!A2:A201,"<>",Reading!D2:D201,"Finished",Reading!F2:F201,">="&DATE($B$1,A14,1),Reading!F2:F201,"<"&DATE($B$1,A14+1,1))
A15: 10 | B15: =COUNTIFS(Reading!A2:A201,"<>",Reading!D2:D201,"Finished",Reading!F2:F201,">="&DATE($B$1,A15,1),Reading!F2:F201,"<"&DATE($B$1,A15+1,1))
A16: 11 | B16: =COUNTIFS(Reading!A2:A201,"<>",Reading!D2:D201,"Finished",Reading!F2:F201,">="&DATE($B$1,A16,1),Reading!F2:F201,"<"&DATE($B$1,A16+1,1))
A17: 12 | B17: =COUNTIFS(Reading!A2:A201,"<>",Reading!D2:D201,"Finished",Reading!F2:F201,">="&DATE($B$1,A17,1),Reading!F2:F201,"<"&DATE($B$1,A17+1,1))

Sheet Fictional examples
A1: Title | B1: Author | C1: ISBN or edition | D1: Status | E1: Started | F1: Finished | G1: Format | H1: Personal rating | I1: Notes | J1: Expected days
A2: The Amber Window | B2: A. Example | C2: Fictional record | D2: Finished | E2: 46297 | F2: 46306 | G2: Print | H2: 4 | I2: Invented sample, not a published book | J2: 10
A3: A Road in Pencil | B3: B. Example | C3: Fictional record | D3: DNF | E3: 46300 | G3: eBook | I3: Invented sample, no finish date
A4: Expected totals if copied to Reading: Finished 1; DNF 1; October dated completion 1; average rating 4.

Sheet Read me
A1: BiblioFiend book tracker, version 1.0, 15 October 2026. No macros, scripts or data connections.
A2: Reading is blank apart from formulas. Fictional examples is separate and never included in summaries.
A3: Template scope: 200 input rows, 2 through 201. Extend every formula and validation range together if adding more.
A4: Status values: To read, Reading, Finished, Paused, DNF. Only Finished counts as a completion; DNF stays separate.
A5: A title is required for the summary to count a row. A Finished row without a finish date counts in the total but no dated month.
A6: Days in date span is finish minus start plus one only when both dates are valid and finish is not before start. It is not hours spent reading.
A7: Personal ratings are optional numbers from 0 to 5; blank stays unknown. The mean uses numeric ratings only.
A8: Google Sheets: File > Import the XLSX and create a new spreadsheet. CSV carries headings/data only, no formulas or dropdown rules.
A9: Check the fictional examples against the listed expected totals after importing. Do not mix sample rows into a personal log by accident.
A10: Keep the sheet private unless you choose to share it. Export a backup using the spreadsheet application controls.
